BEGIN:VCALENDAR
PRODID:-//spiritec//spiritec media library//EN
VERSION:2.0
METHOD:PUBLISH
BEGIN:VEVENT
UID:ical-2026-04-28-2851
DTSTART:20260428T080000Z
DTSTAMP:20260422T181931Z
LOCATION:Probebühne
SUMMARY:Das Klima (no pressure)
DESCRIPTION:Mainfranken Theater Würzburg\nProbebühne\nTheaterstraße 21\n97070 Würzburg
CREATED:20260422T181931Z
DTEND:20260428T092000Z
END:VEVENT
END:VCALENDAR
