BEGIN:VCALENDAR
PRODID:-//spiritec//spiritec media library//EN
VERSION:2.0
METHOD:PUBLISH
BEGIN:VEVENT
UID:ical-2025-11-28-2861
DTSTART:20251128T080000Z
DTSTAMP:20260420T030522Z
LOCATION:Kleines Haus
SUMMARY:Momo
DESCRIPTION:Mainfranken Theater Würzburg\nKleines Haus\nTheaterstraße 21\n97070 Würzburg
CREATED:20260420T030522Z
DTEND:20251128T091000Z
END:VEVENT
END:VCALENDAR
