BEGIN:VCALENDAR
PRODID:-//spiritec//spiritec media library//EN
VERSION:2.0
METHOD:PUBLISH
BEGIN:VEVENT
UID:ical-2026-03-06-2868
DTSTART:20260306T183000Z
DTSTAMP:20260422T174930Z
LOCATION:Theaterfabrik Blaue Halle
SUMMARY:Der Kontrabass
DESCRIPTION:Theaterfabrik Blaue Halle\nc/o va-Q-tec AG\nAlfred-Nobel-Straße 33\n97080 Würzburg
CREATED:20260422T174930Z
DTEND:20260306T225900Z
END:VEVENT
END:VCALENDAR
