BEGIN:VCALENDAR
PRODID:-//spiritec//spiritec media library//EN
VERSION:2.0
METHOD:PUBLISH
BEGIN:VEVENT
UID:ical-2026-05-21-2917
DTSTART:20260521T173000Z
DTSTAMP:20260422T051739Z
LOCATION:Kleines Haus
SUMMARY:Der Zorn des Achill
DESCRIPTION:Mainfranken Theater Würzburg\nKleines Haus\nTheaterstraße 21\n97070 Würzburg
CREATED:20260422T051739Z
DTEND:20260521T215900Z
END:VEVENT
END:VCALENDAR
