BEGIN:VCALENDAR
PRODID:-//spiritec//spiritec media library//EN
VERSION:2.0
METHOD:PUBLISH
BEGIN:VEVENT
UID:ical-2026-07-02-2942
DTSTART:20260702T080000Z
DTSTAMP:20260422T232631Z
LOCATION:Probebühne
SUMMARY:Adina und Nemorino oder der Liebestrank
DESCRIPTION:Mainfranken Theater Würzburg\nProbebühne\nTheaterstraße 21\n97070 Würzburg
CREATED:20260422T232631Z
DTEND:20260702T215900Z
END:VEVENT
END:VCALENDAR
